BEGIN:VCALENDAR
VERSION:2.0
PRODID:icalendar-ruby
CALSCALE:GREGORIAN
NAME:Caloundra Seventh-Day Adventist Church
X-WR-CALNAME:Caloundra Seventh-Day Adventist Church
URL:https://caloundra.adventist.org.au/calendars/93/feed
REFRESH-INTERVAL;VALUE=DURATION:P1D
X-PUBLISHED-TTL:P1D
BEGIN:VTIMEZONE
TZID:Australia/Brisbane
BEGIN:STANDARD
DTSTART:19920301T020000
TZOFFSETFROM:+1100
TZOFFSETTO:+1000
TZNAME:AEST
END:STANDARD
END:VTIMEZONE
BEGIN:VEVENT
DTSTAMP:20210223T043339Z
UID:1664e12e-eb33-4ede-84dc-239a105e2473
DTSTART;TZID=Australia/Brisbane:20210227T110000
DTEND;TZID=Australia/Brisbane:20210227T120000
LOCATION:64 Sunset Drive\, Little Mountain\, Q. 4551
SUMMARY:Preacher: Ross Reid
END:VEVENT
BEGIN:VEVENT
DTSTAMP:20210223T043339Z
UID:4bcbf46b-7498-49eb-b493-9754cd4b428e
DTSTART;TZID=Australia/Brisbane:20210306T110000
DTEND;TZID=Australia/Brisbane:20210306T120000
LOCATION:64 Sunset Drive\, Little Mountain\, Q. 4551
SUMMARY:Preacher: Pr. Scott Wareham
END:VEVENT
BEGIN:VEVENT
DTSTAMP:20210223T043339Z
UID:814ba6d9-318b-4414-9d8d-8e0301d9f064
DTSTART;TZID=Australia/Brisbane:20210313T110000
DTEND;TZID=Australia/Brisbane:20210313T120000
LOCATION:64 Sunset Drive\, Little Mountain\, Q. 4551
SUMMARY:Preacher: Pr. John Rabbas
END:VEVENT
BEGIN:VEVENT
DTSTAMP:20210223T043339Z
UID:96b89c26-f192-4c81-8573-3ee47e9e87a1
DTSTART;TZID=Australia/Brisbane:20210320T110000
DTEND;TZID=Australia/Brisbane:20210320T120000
LOCATION:64 Sunset Drive\, Little Mountain\, Q. 4551
SUMMARY:Preacher: Pr. Scott Wareham
END:VEVENT
BEGIN:VEVENT
DTSTAMP:20210223T043339Z
UID:57c4eda8-e592-4f60-b937-fa90c17a3571
DTSTART;TZID=Australia/Brisbane:20210327T110000
DTEND;TZID=Australia/Brisbane:20210327T120000
LOCATION:64 Sunset Drive\, Little Mountain\, Q. 4551
SUMMARY:Preacher: Dr. Percy Harold
END:VEVENT
BEGIN:VEVENT
DTSTAMP:20210223T043339Z
UID:f5b84b9b-3847-46bb-a245-f459b1a7e3a3
DTSTART;TZID=Australia/Brisbane:20210403T110000
DTEND;TZID=Australia/Brisbane:20210403T120000
LOCATION:64 Sunset Drive\, Little Mountain\, Q. 4551
SUMMARY:Preacher: Wesley Hughes
END:VEVENT
BEGIN:VEVENT
DTSTAMP:20210223T043339Z
UID:e0b1693b-2f2e-4621-879d-cb2c3ec624f8
DTSTART;TZID=Australia/Brisbane:20210410T110000
DTEND;TZID=Australia/Brisbane:20210410T120000
LOCATION:64 Sunset Drive\, Little Mountain\, Q. 4551
SUMMARY:Preacher: Pr. Scott Wareham
END:VEVENT
BEGIN:VEVENT
DTSTAMP:20210223T043339Z
UID:af2fd7d8-1a19-4d2b-9aaf-f46a4d6f5c55
DTSTART;TZID=Australia/Brisbane:20210417T110000
DTEND;TZID=Australia/Brisbane:20210417T120000
LOCATION:64 Sunset Drive\, Little Mountain\, Q. 4551
SUMMARY:Preacher: Pr. Robert Borresen
END:VEVENT
BEGIN:VEVENT
DTSTAMP:20210223T043339Z
UID:2a8764e0-4d2a-499c-a36f-dea5f17f2c18
DTSTART;TZID=Australia/Brisbane:20210424T110000
DTEND;TZID=Australia/Brisbane:20210424T120000
LOCATION:64 Sunset Drive\, Little Mountain\, Q. 4551
SUMMARY:Preacher: Pr. Scott Wareham
END:VEVENT
BEGIN:VEVENT
DTSTAMP:20210223T043339Z
UID:f33f30a4-329c-401f-9c8c-93e873653855
DTSTART;TZID=Australia/Brisbane:20210501T110000
DTEND;TZID=Australia/Brisbane:20210501T120000
LOCATION:64 Sunset Drive\, Little Mountain\, Q. 4551
SUMMARY:preacher: Kevin Davies
END:VEVENT
BEGIN:VEVENT
DTSTAMP:20210223T043339Z
UID:da33c934-df19-420b-a62f-fdb69b69ae8d
DTSTART;TZID=Australia/Brisbane:20210508T110000
DTEND;TZID=Australia/Brisbane:20210508T120000
LOCATION:64 Sunset Drive\, Little Mountain\, Q. 4551
SUMMARY:Preacher: Pr. Scott Wareham
END:VEVENT
BEGIN:VEVENT
DTSTAMP:20210223T043339Z
UID:82c1f1a3-02fb-412a-b7db-160cd1890708
DTSTART;TZID=Australia/Brisbane:20210515T110000
DTEND;TZID=Australia/Brisbane:20210515T120000
LOCATION:64 Sunset Drive\, Little Mountain\, Q. 4551
SUMMARY:Preacher: Pr. Lachlan Campbell
END:VEVENT
BEGIN:VEVENT
DTSTAMP:20210223T043339Z
UID:6ba0ea6c-30aa-4df3-b245-f2cf26a35652
DTSTART;TZID=Australia/Brisbane:20210522T110000
DTEND;TZID=Australia/Brisbane:20210522T120000
DESCRIPTION:Sunshine Coast Regional\n
LOCATION:64 Sunset Drive\, Little Mountain\, Q. 4551
SUMMARY:Preacher: Wesley Hughes
END:VEVENT
BEGIN:VEVENT
DTSTAMP:20210223T043339Z
UID:bb67c1d3-b504-4c87-8c37-bfd74e37ec15
DTSTART;TZID=Australia/Brisbane:20210605T110000
DTEND;TZID=Australia/Brisbane:20210605T120000
LOCATION:64 Sunset Drive\, Little Mountain\, Qld 4551
SUMMARY:Preacher: Pr. Scott Wareham
END:VEVENT
BEGIN:VEVENT
DTSTAMP:20210223T043339Z
UID:611f6e80-e35f-47a1-9613-aa5f64a04fad
DTSTART;TZID=Australia/Brisbane:20210612T110000
DTEND;TZID=Australia/Brisbane:20210612T120000
LOCATION:64 Sunset Drive\, Little Mountain\, Qld 4551
SUMMARY:Preacher: Pr. John Rabbas
END:VEVENT
BEGIN:VEVENT
DTSTAMP:20210223T043339Z
UID:d20ce7ef-9c96-4419-bdc7-d859a474c016
DTSTART;TZID=Australia/Brisbane:20210619T110000
DTEND;TZID=Australia/Brisbane:20210619T120000
LOCATION:64 Sunset Drive\, Little Mountain\, Q. 4551
SUMMARY:Preacher: Pr. Scott Wareham
END:VEVENT
BEGIN:VEVENT
DTSTAMP:20210223T043339Z
UID:6649ad04-3c2e-4717-b640-b6fcb50b8fc7
DTSTART;TZID=Australia/Brisbane:20210626T110000
DTEND;TZID=Australia/Brisbane:20210626T120000
LOCATION:64 Sunset Drive\, Little Mountain\, Q. 4551
SUMMARY:Preacher: Pr. Jake Ormsby
END:VEVENT
BEGIN:VEVENT
DTSTAMP:20210223T043339Z
UID:b965959d-56d7-474d-8afd-dbd308aa3fd5
DTSTART;TZID=Australia/Brisbane:20210703T110000
DTEND;TZID=Australia/Brisbane:20210703T120000
LOCATION:64 Sunset Drive\, Little Mountain\, Q. 4551
SUMMARY:Preacher: Pr. Scott Wareham
END:VEVENT
BEGIN:VEVENT
DTSTAMP:20210223T043339Z
UID:691febd7-bd17-456a-8389-7b7e2f6eec66
DTSTART;TZID=Australia/Brisbane:20210710T110000
DTEND;TZID=Australia/Brisbane:20210710T120000
LOCATION:64 Sunset Drive\, Little Mountain\, Qld 4551
SUMMARY:Pr Laurie Evans
END:VEVENT
BEGIN:VEVENT
DTSTAMP:20210223T043339Z
UID:0b6ca3c5-fa08-4195-92a9-1eb0e97869ba
DTSTART;TZID=Australia/Brisbane:20210717T110000
DTEND;TZID=Australia/Brisbane:20210717T120000
LOCATION:64 Sunset Drive\, Little Mountain\, Qld 4551
SUMMARY:Preacher: Pr. Scott Wareham
END:VEVENT
BEGIN:VEVENT
DTSTAMP:20210223T043339Z
UID:c6ae5d31-4ee0-472a-83ce-7c69725dc93c
DTSTART;TZID=Australia/Brisbane:20210724T110000
DTEND;TZID=Australia/Brisbane:20210724T120000
LOCATION:64 Sunset Drive\, Little Mountain\, Qld 4551
SUMMARY:Preacher: Pr. Eric Kingdon
END:VEVENT
BEGIN:VEVENT
DTSTAMP:20210223T043339Z
UID:0620c185-5482-4d84-bdcd-50e48da6f14b
DTSTART;TZID=Australia/Brisbane:20210731T110000
DTEND;TZID=Australia/Brisbane:20210731T120000
LOCATION:64 Sunset Drive\, Little Mountain\, Qld 4551
SUMMARY:Preacher: Kevin Davies
END:VEVENT
BEGIN:VEVENT
DTSTAMP:20210223T043339Z
UID:dffa00c7-256f-489d-8065-0dfe182f1a55
DTSTART;TZID=Australia/Brisbane:20210807T110000
DTEND;TZID=Australia/Brisbane:20210807T120000
LOCATION:64 Sunset Drive\, Little Mountain\, Qld 4551
SUMMARY:Preacher: Pr. Scott Wareham
END:VEVENT
BEGIN:VEVENT
DTSTAMP:20210223T043339Z
UID:c6c0741a-9fdd-4836-ba02-766b3a57e45e
DTSTART;TZID=Australia/Brisbane:20210814T110000
DTEND;TZID=Australia/Brisbane:20210814T120000
LOCATION:64 Sunset Drive\, Little Mountain\, Qld 4551
SUMMARY:Wesley Hughes
END:VEVENT
BEGIN:VEVENT
DTSTAMP:20210223T043339Z
UID:1094e1cc-4adc-4d0a-926f-a9a2c7e461f8
DTSTART;TZID=Australia/Brisbane:20210821T110000
DTEND;TZID=Australia/Brisbane:20210821T120000
LOCATION:64 Sunset Drive\, Little Mountain\, Qld 4551
SUMMARY:Preacher: Pr. John Rabbas
END:VEVENT
BEGIN:VEVENT
DTSTAMP:20210223T043339Z
UID:2276d9d7-8bae-4698-80b0-86f4362bc60b
DTSTART;TZID=Australia/Brisbane:20210828T110000
DTEND;TZID=Australia/Brisbane:20210828T120000
DESCRIPTION:Communion Service
LOCATION:64 Sunset Drive\, Little Mountain\, Qld 4551
SUMMARY:Preacher: Pr. Scott Wareham
END:VEVENT
BEGIN:VEVENT
DTSTAMP:20210223T043339Z
UID:f871593f-589b-4520-9146-e3312fc9af04
DTSTART;TZID=Australia/Brisbane:20210904T110000
DTEND;TZID=Australia/Brisbane:20210904T120000
LOCATION:64 Sunset Drive\, Little Mountain\, Qld 4551
SUMMARY:Preacher: Pr. Scott Wareham
END:VEVENT
BEGIN:VEVENT
DTSTAMP:20210223T043339Z
UID:d4a5715d-d4b0-4c8b-bb75-ec43f0d86020
DTSTART;TZID=Australia/Brisbane:20210911T110000
DTEND;TZID=Australia/Brisbane:20210911T120000
LOCATION:64 Sunset Drive\, Little Mountain\, Qld 4551
SUMMARY:Preacher: Pr. Rob Borresen
END:VEVENT
BEGIN:VEVENT
DTSTAMP:20210223T043339Z
UID:e48a847b-36e4-4c95-b348-aa8fe24645d7
DTSTART;TZID=Australia/Brisbane:20210918T083000
DTEND;TZID=Australia/Brisbane:20210925T180000
DESCRIPTION:Week-long Convention of South Queensland SDA Churches @ Watson 
 Park\, Narangba\, Qld. \n\nLive-streaming -refer website for link.\n\n\n
LOCATION:337 Old Gympie Rd  Dakabin\, QLD\, 4503
SUMMARY:Big Camp
END:VEVENT
BEGIN:VEVENT
DTSTAMP:20210223T043339Z
UID:b38c29e8-57ea-4056-a852-c91940e1b013
DTSTART;TZID=Australia/Brisbane:20211002T110000
DTEND;TZID=Australia/Brisbane:20211002T120000
DESCRIPTION:NB. Queens Birthday 4th Oct.
LOCATION:64 Sunset Drive\, Little Mountain\, Qld 4551
SUMMARY:Preacher: Pr. David Lamb
END:VEVENT
BEGIN:VEVENT
DTSTAMP:20210223T043339Z
UID:2b95e95a-8e30-4cea-a868-4c6b67e28228
DTSTART;TZID=Australia/Brisbane:20211009T110000
DTEND;TZID=Australia/Brisbane:20211009T120000
LOCATION:64 Sunset Drive\, Little Mountain\, Qld 4551
SUMMARY:Preacher: Pr. Scott Wareham
END:VEVENT
BEGIN:VEVENT
DTSTAMP:20210223T043339Z
UID:d6e0ddf3-8dac-40ab-974a-71eebb9bc1a8
DTSTART;TZID=Australia/Brisbane:20211016T110000
DTEND;TZID=Australia/Brisbane:20211016T120000
LOCATION:64 Sunset Drive\, Little Mountain\, Qld 4551
SUMMARY:Preacher: Janeen Knight
END:VEVENT
BEGIN:VEVENT
DTSTAMP:20210223T043339Z
UID:ae72a7df-2468-4f1b-bbfd-3b33f97c1b50
DTSTART;TZID=Australia/Brisbane:20211023T110000
DTEND;TZID=Australia/Brisbane:20211023T120000
LOCATION:64 Sunset Drive\, Little Mountain\, Qld 4551
SUMMARY:Preacher:  Kevin Davies
END:VEVENT
BEGIN:VEVENT
DTSTAMP:20210223T043339Z
UID:f53ed8a2-138d-4b0f-b434-a217079c69e3
DTSTART;TZID=Australia/Brisbane:20211030T110000
DTEND;TZID=Australia/Brisbane:20211030T120000
LOCATION:64 Sunset Drive\, Little Mountain\, Qld 4551
SUMMARY:Preacher: Pr. Scott Wareham
END:VEVENT
BEGIN:VEVENT
DTSTAMP:20210223T043339Z
UID:d34e3b51-08f1-43ce-a200-074772977a93
DTSTART;TZID=Australia/Brisbane:20211106T110000
DTEND;TZID=Australia/Brisbane:20211106T120000
LOCATION:64 Sunset Drive\, Little Mountain\, Qld 4551
SUMMARY:Preacher: Pr. Scott Wareham
END:VEVENT
BEGIN:VEVENT
DTSTAMP:20210223T043339Z
UID:58bb8338-906a-430f-81b7-1df0c5935df1
DTSTART;TZID=Australia/Brisbane:20211113T110000
DTEND;TZID=Australia/Brisbane:20211113T120000
LOCATION:64 Sunset Drive\, Little Mountain\, Qld 4551
SUMMARY:Preacher: Pr. David Lamb
END:VEVENT
BEGIN:VEVENT
DTSTAMP:20210223T043339Z
UID:f1250cbd-934a-466a-a65f-358b8b910b53
DTSTART;TZID=Australia/Brisbane:20211120T110000
DTEND;TZID=Australia/Brisbane:20211120T120000
DESCRIPTION:Communion Service
LOCATION:64 Sunset Drive\, Little Mountain\, Qld 4551
SUMMARY:Preacher: Pr. Scott Wareham
END:VEVENT
BEGIN:VEVENT
DTSTAMP:20210223T043339Z
UID:c5c587b4-cf39-40e9-a209-5bcaba4e1f51
DTSTART;TZID=Australia/Brisbane:20211127T110000
DTEND;TZID=Australia/Brisbane:20211127T120000
LOCATION:64 Sunset Drive\, Little Mountain\, Qld 4551
SUMMARY:Preacher: Pr. John Rabbas
END:VEVENT
BEGIN:VEVENT
DTSTAMP:20210223T043339Z
UID:f207ee29-f52b-46bd-a6de-e5210a8871c1
DTSTART;TZID=Australia/Brisbane:20211204T110000
DTEND;TZID=Australia/Brisbane:20211204T120000
LOCATION:64 Sunset Drive\, Little Mountain\, Qld 4551
SUMMARY:Preacher: Pr. Scott Wareham
END:VEVENT
BEGIN:VEVENT
DTSTAMP:20210223T043339Z
UID:89b538b5-2c40-4f16-96f0-6f8a555639bb
DTSTART;TZID=Australia/Brisbane:20211211T110000
DTEND;TZID=Australia/Brisbane:20211211T120000
LOCATION:64 Sunset Drive\, Little Mountain\, Qld 4551
SUMMARY:Preacher: Pr. Alvin Coltheart
END:VEVENT
BEGIN:VEVENT
DTSTAMP:20210223T043339Z
UID:a648085c-2b98-420b-8ba8-d419f102c1f2
DTSTART;TZID=Australia/Brisbane:20211218T110000
DTEND;TZID=Australia/Brisbane:20211218T120000
LOCATION:64 Sunset Drive\, Little Mountain\, Qld 4551
SUMMARY:Preacher: Pr. Scott Wareham
END:VEVENT
BEGIN:VEVENT
DTSTAMP:20210223T043339Z
UID:c820f6c6-f9ff-4ccc-a0bf-727074b0f0ae
DTSTART;TZID=Australia/Brisbane:20211225T110000
DTEND;TZID=Australia/Brisbane:20211225T120000
LOCATION:64 Sunset Drive\, Little Mountain\, Qld 4551
SUMMARY:Preacher: Merv Todd
END:VEVENT
BEGIN:VEVENT
DTSTAMP:20210223T043339Z
UID:b126de41-fb1b-45b3-93d8-885c99ee6ab4
DTSTART;TZID=Australia/Brisbane:20220101T110000
DTEND;TZID=Australia/Brisbane:20220101T120000
LOCATION:64 Sunset Drive\, Little Mountain\, Qld 4551
SUMMARY:Preacher: Wesley Hughes
END:VEVENT
END:VCALENDAR
